BEGIN:VCALENDAR
VERSION:2.0
PRODID:-//eulections 19
CALSCALE:GREGORIAN
METHOD:PUBLISH
X-WR-CALNAME:eulections 19
X-ORIGINAL-URL:https://eulections19.eu/k-event/eulections19-presentation-academy-iscte-iul-lisbon/
X-WR-CALDESC:E(u)lections´19 presentation – Academy ISCTE-IUL, Lisbon
BEGIN:VEVENT
DTSTART:
DTEND:
SUMMARY:E(u)lections´19 presentation – Academy ISCTE-IUL, Lisbon
DESCRIPTION:
LOCATION:
END:VEVENT
END:VCALENDAR
